BEGIN:VCALENDAR
VERSION:2.0
PRODID:-//Africa24 TV - ECPv6.15.20//NONSGML v1.0//EN
CALSCALE:GREGORIAN
METHOD:PUBLISH
X-WR-CALNAME:Africa24 TV
X-ORIGINAL-URL:https://africa24tv.com
X-WR-CALDESC:Évènements pour Africa24 TV
REFRESH-INTERVAL;VALUE=DURATION:PT1H
X-Robots-Tag:noindex
X-PUBLISHED-TTL:PT1H
BEGIN:VTIMEZONE
TZID:Europe/Paris
BEGIN:DAYLIGHT
TZOFFSETFROM:+0100
TZOFFSETTO:+0200
TZNAME:CEST
DTSTART:20210328T010000
END:DAYLIGHT
BEGIN:STANDARD
TZOFFSETFROM:+0200
TZOFFSETTO:+0100
TZNAME:CET
DTSTART:20211031T010000
END:STANDARD
BEGIN:DAYLIGHT
TZOFFSETFROM:+0100
TZOFFSETTO:+0200
TZNAME:CEST
DTSTART:20220327T010000
END:DAYLIGHT
BEGIN:STANDARD
TZOFFSETFROM:+0200
TZOFFSETTO:+0100
TZNAME:CET
DTSTART:20221030T010000
END:STANDARD
BEGIN:DAYLIGHT
TZOFFSETFROM:+0100
TZOFFSETTO:+0200
TZNAME:CEST
DTSTART:20230326T010000
END:DAYLIGHT
BEGIN:STANDARD
TZOFFSETFROM:+0200
TZOFFSETTO:+0100
TZNAME:CET
DTSTART:20231029T010000
END:STANDARD
END:VTIMEZONE
BEGIN:VEVENT
DTSTART;TZID=Europe/Paris:20221003T080000
DTEND;TZID=Europe/Paris:20221006T170000
DTSTAMP:20260423T042647
CREATED:20220928T163517Z
LAST-MODIFIED:20220928T163815Z
UID:52915-1664784000-1665075600@africa24tv.com
SUMMARY:Séminaire Commercial Afreximbank
DESCRIPTION:Le séminaire sur le financement du commerce d’Afreximbank\, prévu du 3 au 6 octobre 2022 en Kampala en Ouganda\, vise à doter les institutions financières africaines\, les banquiers et les professionnels des agences de réglementation\, des entreprises et des cabinets juridiques des compétences nécessaires pour faire face aux défis des transactions de financement dans un contexte d’incertitude économique mondiale accrue. Le séminaire qui durera trois jours sera suivi d’un atelier d’une journée sur l’affacturage.
URL:https://africa24tv.com/event/seminaire-commercial-afreximbank/
LOCATION:kampala\, kampala\, Ouganda
ATTACH;FMTTYPE=image/png:https://africa24tv.com/wp-content/uploads/2022/09/Afreximbank.png
END:VEVENT
END:VCALENDAR