BEGIN:VCALENDAR
VERSION:2.0
PRODID:-//Africa24 TV - ECPv6.15.20//NONSGML v1.0//EN
CALSCALE:GREGORIAN
METHOD:PUBLISH
X-ORIGINAL-URL:https://africa24tv.com
X-WR-CALDESC:Évènements pour Africa24 TV
REFRESH-INTERVAL;VALUE=DURATION:PT1H
X-Robots-Tag:noindex
X-PUBLISHED-TTL:PT1H
BEGIN:VTIMEZONE
TZID:Europe/Paris
BEGIN:DAYLIGHT
TZOFFSETFROM:+0100
TZOFFSETTO:+0200
TZNAME:CEST
DTSTART:20210328T010000
END:DAYLIGHT
BEGIN:STANDARD
TZOFFSETFROM:+0200
TZOFFSETTO:+0100
TZNAME:CET
DTSTART:20211031T010000
END:STANDARD
BEGIN:DAYLIGHT
TZOFFSETFROM:+0100
TZOFFSETTO:+0200
TZNAME:CEST
DTSTART:20220327T010000
END:DAYLIGHT
BEGIN:STANDARD
TZOFFSETFROM:+0200
TZOFFSETTO:+0100
TZNAME:CET
DTSTART:20221030T010000
END:STANDARD
BEGIN:DAYLIGHT
TZOFFSETFROM:+0100
TZOFFSETTO:+0200
TZNAME:CEST
DTSTART:20230326T010000
END:DAYLIGHT
BEGIN:STANDARD
TZOFFSETFROM:+0200
TZOFFSETTO:+0100
TZNAME:CET
DTSTART:20231029T010000
END:STANDARD
END:VTIMEZONE
BEGIN:VEVENT
DTSTART;TZID=Europe/Paris:20220719T080000
DTEND;TZID=Europe/Paris:20220722T170000
DTSTAMP:20260423T004944
CREATED:20220630T172257Z
LAST-MODIFIED:20220630T172357Z
UID:43900-1658217600-1658509200@africa24tv.com
SUMMARY:Sommet des affaires États-Unis-Afrique\, édition 2022
DESCRIPTION:Le Sommet des affaires États-Unis-Afrique 2022 prévue du 19 au 22 juillet 2022 à Marrakech au Maroc. Placée sous le thème « Construire\, l’avenir ensemble »\, cette édition est organisée en partenariat avec le Maroc et Africa50\, la plateforme panafricaine d’investissement dans les infrastructures. Plusieurs débats sont au programme\, axés sur des secteurs tels que la santé\, l’énergie\, les infrastructures\, l’agriculture et les technologies de l’information et de la communication.\nCe sommet réunira plus de 1 000 hauts fonctionnaires\, parmi lesquels des investisseurs américains\, investisseurs-américains et africains à la recherche d’opportunités d’investissement sur le continent.\nLe Sommet des affaires Etats-Unis-Afrique permettra de renforcer les échanges\, les investissements et les liens commerciaux entre les Etats-Unis et l’Afrique\, dans un contexte sanitaire et économique sans précédent.
URL:https://africa24tv.com/event/sommet-des-affaires-etats-unis-afrique-edition-2022/
ATTACH;FMTTYPE=image/jpeg:https://africa24tv.com/wp-content/uploads/2022/06/Marrakech-Sommet-des-affaires-Etats-Unis-Afrique-scaled-1.jpg
END:VEVENT
END:VCALENDAR